BEGIN:VCALENDAR
VERSION:2.0
PRODID:-//wp-events-plugin.com//7.2.3.1//EN
TZID:America/Los_Angeles
X-WR-TIMEZONE:America/Los_Angeles
BEGIN:VEVENT
UID:82@messiahpreschoolvancouver.org
DTSTART;TZID=America/Los_Angeles:20260520T000000
DTEND;TZID=America/Los_Angeles:20260522T000000
DTSTAMP:20251207T194545Z
URL:https://messiahpreschoolvancouver.org/events/last-days-of-preschool/
SUMMARY:Last days of Preschool
DESCRIPTION:
END:VEVENT
BEGIN:VTIMEZONE
TZID:America/Los_Angeles
X-LIC-LOCATION:America/Los_Angeles
BEGIN:DAYLIGHT
DTSTART:20260308T030000
TZOFFSETFROM:-0800
TZOFFSETTO:-0700
TZNAME:PDT
END:DAYLIGHT
END:VTIMEZONE
END:VCALENDAR